BEGIN:VCALENDAR
VERSION:2.0
PRODID:-//Ippodromo Ghirlandina - ECPv6.15.20//NONSGML v1.0//EN
CALSCALE:GREGORIAN
METHOD:PUBLISH
X-WR-CALNAME:Ippodromo Ghirlandina
X-ORIGINAL-URL:https://ippodromoghirlandina.it
X-WR-CALDESC:Eventi per Ippodromo Ghirlandina
REFRESH-INTERVAL;VALUE=DURATION:PT1H
X-Robots-Tag:noindex
X-PUBLISHED-TTL:PT1H
BEGIN:VTIMEZONE
TZID:Europe/Rome
BEGIN:DAYLIGHT
TZOFFSETFROM:+0100
TZOFFSETTO:+0200
TZNAME:CEST
DTSTART:20250330T010000
END:DAYLIGHT
BEGIN:STANDARD
TZOFFSETFROM:+0200
TZOFFSETTO:+0100
TZNAME:CET
DTSTART:20251026T010000
END:STANDARD
BEGIN:DAYLIGHT
TZOFFSETFROM:+0100
TZOFFSETTO:+0200
TZNAME:CEST
DTSTART:20260329T010000
END:DAYLIGHT
BEGIN:STANDARD
TZOFFSETFROM:+0200
TZOFFSETTO:+0100
TZNAME:CET
DTSTART:20261025T010000
END:STANDARD
BEGIN:DAYLIGHT
TZOFFSETFROM:+0100
TZOFFSETTO:+0200
TZNAME:CEST
DTSTART:20270328T010000
END:DAYLIGHT
BEGIN:STANDARD
TZOFFSETFROM:+0200
TZOFFSETTO:+0100
TZNAME:CET
DTSTART:20271031T010000
END:STANDARD
END:VTIMEZONE
BEGIN:VEVENT
DTSTART;TZID=Europe/Rome:20260121T140000
DTEND;TZID=Europe/Rome:20260121T170000
DTSTAMP:20260422T154858
CREATED:20260109T123341Z
LAST-MODIFIED:20260130T100205Z
UID:30033-1769004000-1769014800@ippodromoghirlandina.it
SUMMARY:4° Corsa al trotto
DESCRIPTION:Programma corse\nNuovo appuntamento con il trotto all’Ippodromo Ghirlandina con un convegno infrasettimanale che propone un clou per cavalli di tre anni dall’esito tutt’altro che scontato. \nDa seguire con particolare interesse il rientro di Iupiter Mail\, alla prima uscita per il team Gocciadoro\, elemento di qualità ma tutto da valutare nella nuova veste. Attenzione anche a Meera Wynn\, cavalla dotata ma non semplice\, spesso fallosa\, e a Isabella Play\, apparsa in progresso nelle recenti uscite e possibile terzo incomodo. \nLe corse prenderanno il via alle ore 15.35. \n\n\n\nPos\nNome cavallo\nTempo\nMetri\nVincita\nDescrizione premio\nGuidatore\nNC\n\n\n \n\nCORSA 1 — PR. SESTOLA\n\n\n01\nGLADIATOR 04\n1″15″3\n1600\n1.564\,00\nPR. SESTOLA\nF.MONTI\n1\n\n\n02\nTRAVPRINS THORESEN D 04\n1″15″4\n1600\n748\,00\nPR. SESTOLA\nR.VECCHIONE\n1\n\n\n03\nGABARIT 04\n1″15″6\n1600\n408\,00\nPR. SESTOLA\nS.MIRAGLIA\n1\n\n\n04\nGUARANA’ HP 04\n1″15″7\n1600\n204\,00\nPR. SESTOLA\nM.PISTONE\n1\n\n\n05\nGALENA SSM 04\n1″16″9\n1600\n136\,00\nPR. SESTOLA\nL. GELORMINI\n1\n\n\n06\nGREG DI GIRIFALCO 04\n1″17″1\n1600\n\nPR. SESTOLA\nF.CONIGLIARO\n1\n\n\n07\nGUMU 04\n1″17″1\n1600\n\nPR. SESTOLA\nA.GARRUTO\n1\n\n\n08\nGRAHAM WISE L 04\n1″18″8\n1600\n\nPR. SESTOLA\nP.GUBELLINI\n1\n\n\nRP\nGUINNESS MUTTLEY 04\n\n1600\n\nPR. SESTOLA\nC.PISCUOGLIO\n1\n\n\nRP\nGOLIA PETRAL 04\n\n1600\n\nPR. SESTOLA\nGP.MINNUCCI\n1\n\n\nRA\nGALAXY MAIL 04\n\n1600\n\nPR. SESTOLA\nT.GAMBINO\n1\n\n\nRP\nGINGER MASK 04\n\n1600\n\nPR. SESTOLA\nV.LUONGO\n1\n\n \n\nCORSA 2 — PR. SERRAMAZZONI\n\n\n01\nFACETIME CASH -S- 04\n1″15″1\n1600\n1.955\,00\nPR. SERRAMAZZONI\nA.GOCCIADORO\n2\n\n\n02\nGELSI JAMP 04\n1″15″5\n1600\n935\,00\nPR. SERRAMAZZONI\nM.PISTONE\n2\n\n\n03\nGIULIA LL 04\n1″15″7\n1600\n510\,00\nPR. SERRAMAZZONI\nAND.FERRARA (\n2\n\n\n04\nGANDIA FIOR 04\n1″15″7\n1600\n255\,00\nPR. SERRAMAZZONI\nE.LOCCISANO\n2\n\n\n05\nGRACEKELLYMUTTLEY 04\n1″16″1\n1600\n170\,00\nPR. SERRAMAZZONI\nC.PISCUOGLIO\n2\n\n\n06\nGIN TONIC LP 04\n1″16″2\n1600\n\nPR. SERRAMAZZONI\nV.LUONGO\n2\n\n\n07\nGENESI DEI VENTI 04\n1″16″5\n1600\n\nPR. SERRAMAZZONI\nG.LOMBARDO JR\n2\n\n\n08\nGOLDEN ROSE SP 04\n1″16″9\n1600\n\nPR. SERRAMAZZONI\nS.MIRAGLIA\n2\n\n\nRP\nGEM SKY 04\n\n1600\n\nPR. SERRAMAZZONI\nR.VECCHIONE\n2\n\n \n\nCORSA 3 — PR. FIUMALBO\n\n\n01\nFLORENTIA VIK 05\n1″14″8\n1600\n1.485\,80\nPR. FIUMALBO\nG.LEANZA\n3\n\n\n02\nEZECHIELA 06\n1″15″1\n1600\n710\,60\nPR. FIUMALBO\nM.CASILLO\n3\n\n\n03\nFANNY 05\n1″15″5\n1600\n387\,60\nPR. FIUMALBO\nV.BOSIA\n3\n\n\n04\nETIENNEST 06\n1″15″7\n1600\n193\,80\nPR. FIUMALBO\nP.ROMANO\n3\n\n\n05\nFILLO LENNY 05\n1″16″9\n1600\n129\,20\nPR. FIUMALBO\nP.MAZZIERI\n3\n\n\n06\nFAIRPLAY FOX 05\n1″17″7\n1600\n\nPR. FIUMALBO\nL.PASQUALINI\n3\n\n\nRP\nFORMIDABILE CAF 05\n\n1600\n\nPR. FIUMALBO\nA.BONACCI\n3\n\n \n\nCORSA 4 — PR. APPENNINO MODENE\n\n\n01\nIUPITER MAIL 03\n1″17″3\n2080\n3.910\,00\nPR. APPENNINO MODENE\nA.GOCCIADORO\n4\n\n\n02\nIRINGO DEI RUM 03\n1″17″6\n2080\n1.870\,00\nPR. APPENNINO MODENE\nR.PEZZATINI\n4\n\n\n03\nIROSEZ 03\n1″18″0\n2080\n1.020\,00\nPR. APPENNINO MODENE\nP.GUBELLINI\n4\n\n\n04\nISABELLA PLAY 03\n1″18″1\n2080\n510\,00\nPR. APPENNINO MODENE\nE.LOCCISANO\n4\n\n\nRP\nMEERA WYNN -DK- 03\n\n2080\n\nPR. APPENNINO MODENE\nV.LUONGO\n4\n\n \n\nCORSA 5 — PR. MONTESE\n\n\n01\nIDEFULL AS 03\n1″16″8\n1600\n2.346\,00\nPR. MONTESE\nP.GUBELLINI\n5\n\n\n02\nISTANBUL FERM 03\n1″17″3\n1600\n1.122\,00\nPR. MONTESE\nE.LOCCISANO\n5\n\n\n03\nISLANDIA 03\n1″17″5\n1600\n612\,00\nPR. MONTESE\nV.LUONGO\n5\n\n\n04\nICARO DEI GREPPI 03\n1″18″2\n1600\n306\,00\nPR. MONTESE\nF.MONTI\n5\n\n\n05\nICE FIELD HORSE 03\n1″18″2\n1600\n204\,00\nPR. MONTESE\nA.GARRUTO\n5\n\n\n06\nINVOLVED MUTTLEY 03\n1″18″7\n1600\n\nPR. MONTESE\nC.PISCUOGLIO\n5\n\n\n07\nI CAN FLY BIG 03\n1″18″9\n1600\n\nPR. MONTESE\nA.PIRANEJ\n5\n\n\n08\nILIZIA DEGLI DEI 03\n1″18″9\n1600\n\nPR. MONTESE\nR.PEZZATINI\n5\n\n\nRP\nIONIO 03\n\n1600\n\nPR. MONTESE\nGP.MINNUCCI\n5\n\n\nRP\nIOLE 03\n\n1600\n\nPR. MONTESE\nM.PISTONE\n5\n\n \n\nCORSA 6 — PR. LAMA MOCOGNO\n\n\n01\nEMMADAY PRAV 06\n1″14″5\n1600\n2.502\,40\nPR. LAMA MOCOGNO\nP.GUBELLINI\n6\n\n\n02\nDONALD SPAV 07\n1″14″9\n1600\n1.196\,80\nPR. LAMA MOCOGNO\nR.VECCHIONE\n6\n\n\n03\nCITY LUX 08\n1″15″1\n1600\n652\,80\nPR. LAMA MOCOGNO\nR.PEZZATINI\n6\n\n\n04\nNOBEL STEEL -D- 06\n1″15″4\n1600\n326\,40\nPR. LAMA MOCOGNO\nE.LOCCISANO\n6\n\n\n05\nMARIAN BOKO -S- 07\n1″15″7\n1600\n217\,60\nPR. LAMA MOCOGNO\nA.FAROLFI\n6\n\n\nRP\nBUONGALLO WISE L 09\n\n1600\n\nPR. LAMA MOCOGNO\nM.PISTONE\n6\n\n\nRP\nGIGOLO LA MARC -S- 08\n\n1600\n\nPR. LAMA MOCOGNO\nT.GAMBINO\n6\n\n \n\nCORSA 7 — PR. ZOCCA\n\n\n01\nDOWNTOWN AS -D- 07\n1″14″8\n1600\n1.212\,10\nPR. ZOCCA\nS.MIRAGLIA\n7\n\n\n02\nEMERSON 06\n1″15″0\n1600\n579\,70\nPR. ZOCCA\nE.LOCCISANO\n7\n\n\n03\nBARNI LENNY 09\n1″15″1\n1600\n316\,20\nPR. ZOCCA\nENR.STEFANI\n7\n\n\n04\nDAVIDIA 07\n1″16″0\n1600\n158\,10\nPR. ZOCCA\nGIU.FERRANTE\n7\n\n\n05\nAMORE STECCA 10\n1″16″2\n1600\n105\,40\nPR. ZOCCA\nR.FATICONI\n7\n\n\n06\nDAGRANIT DIPA 07\n1″16″5\n1600\n\nPR. ZOCCA\nV.FERRANTI\n7\n\n\n07\nELLY BRO DIPA 06\n1″18″2\n1600\n\nPR. ZOCCA\nC.PISCUOGLIO\n7\n\n\n08\nCLEOPATRA MARK 08\n1″18″3\n1600\n\nPR. ZOCCA\nGP.MINNUCCI\n7\n\n\nRP\nFISTIL MD 05\n\n1600\n\nPR. ZOCCA\nA.GARRUTO\n7\n\n\nRC\nDASIO RISAIA TRGF 07\n\n1600\n\nPR. ZOCCA\nL. GELORMINI\n7\n\n\nRC\nFRIULANO JET 05\n\n1600\n\nPR. ZOCCA\nNON PARTENTE\n7\n\n\nRP\nFALCO TRIO 05\n\n1600\n\nPR. ZOCCA\nM.PISTONE\n7
URL:https://ippodromoghirlandina.it/calendario-eventi/4-corsa-al-trotto/
LOCATION:Ippodromo Ghirlandina\, Via Ragazzi del '99\, 80\, Modena\, Modena\, 41126\, Italy
CATEGORIES:Corse,Corse al trotto
ATTACH;FMTTYPE=image/png:https://ippodromoghirlandina.it/wp-content/uploads/2025/12/sulky.1.png
END:VEVENT
END:VCALENDAR