BEGIN:VCALENDAR
VERSION:2.0
PRODID:-//Ippodromo Ghirlandina - ECPv6.15.20//NONSGML v1.0//EN
CALSCALE:GREGORIAN
METHOD:PUBLISH
X-WR-CALNAME:Ippodromo Ghirlandina
X-ORIGINAL-URL:https://ippodromoghirlandina.it
X-WR-CALDESC:Eventi per Ippodromo Ghirlandina
REFRESH-INTERVAL;VALUE=DURATION:PT1H
X-Robots-Tag:noindex
X-PUBLISHED-TTL:PT1H
BEGIN:VTIMEZONE
TZID:Europe/Rome
BEGIN:DAYLIGHT
TZOFFSETFROM:+0100
TZOFFSETTO:+0200
TZNAME:CEST
DTSTART:20250330T010000
END:DAYLIGHT
BEGIN:STANDARD
TZOFFSETFROM:+0200
TZOFFSETTO:+0100
TZNAME:CET
DTSTART:20251026T010000
END:STANDARD
BEGIN:DAYLIGHT
TZOFFSETFROM:+0100
TZOFFSETTO:+0200
TZNAME:CEST
DTSTART:20260329T010000
END:DAYLIGHT
BEGIN:STANDARD
TZOFFSETFROM:+0200
TZOFFSETTO:+0100
TZNAME:CET
DTSTART:20261025T010000
END:STANDARD
BEGIN:DAYLIGHT
TZOFFSETFROM:+0100
TZOFFSETTO:+0200
TZNAME:CEST
DTSTART:20270328T010000
END:DAYLIGHT
BEGIN:STANDARD
TZOFFSETFROM:+0200
TZOFFSETTO:+0100
TZNAME:CET
DTSTART:20271031T010000
END:STANDARD
END:VTIMEZONE
BEGIN:VEVENT
DTSTART;TZID=Europe/Rome:20260128T140000
DTEND;TZID=Europe/Rome:20260128T170000
DTSTAMP:20260422T155027
CREATED:20260109T123407Z
LAST-MODIFIED:20260130T111501Z
UID:30036-1769608800-1769619600@ippodromoghirlandina.it
SUMMARY:5° Corsa al trotto
DESCRIPTION:Programma corse\nDue gli appuntamenti settimanali con il trotto al Ghirlandina: oggi e poi la replica di sabato 31 gennaio. \nIl convegno odierno propone come prova centrale un doppio chilometro con soli cinque cavalli al via\, ma l’incertezza resta massima. Ifly Point è soggetto in evidente progresso\, mentre Meera Wynn\, se non incappa in errore\, rappresenta probabilmente la cavalla da battere. \nAttenzione però anche a Il Sogno of Brown\, reduce da un brillante successo\, oltre a Itaca Trio e Ibanez Bay\, tutti in grado di inserirsi con uno svolgimento favorevole. \nL’inizio del convegno è previsto alle ore 14.15. \nVIN BRULÉ\, CIOCCOLATA CALDA E PANETTONE IN TRIBUNA\nAnche in questa occasione\, il Bar Tribuna offrirà un’accoglienza speciale: vin brulé caldo\, cioccolata calda fumante e panettone per tutti gli appassionati.Un’occasione perfetta per vivere le corse al caldo della tribuna\, tra tradizione\, gusto e l’emozione del trotto che riparte. \n  \n\n\n\n\n\n\nPos\nNome cavallo\nTempo\nMetri\nVincita\nPremio\nGuidatore\nCorsa\n\n\n \n\nCORSA 1 – PR. LIVORNO\n\n\n01\nGNIGNIGNI ROSA 04\n1″15″7\n1600\n1.642\,20\nPR. LIVORNO\nFR.FACCI\n1\n\n\n02\nGIANGASTONE CLA 04\n1″16″1\n1600\n785\,40\nPR. LIVORNO\nV.LUONGO\n1\n\n\n03\nGILLAZ 04\n1″16″6\n1600\n428\,40\nPR. LIVORNO\nL.SCHETTINO\n1\n\n\n04\nGABARIT 04\n1″17″1\n1600\n214\,20\nPR. LIVORNO\nS.MIRAGLIA\n1\n\n\n05\nGRACE TIME Q 04\n1″17″1\n1600\n142\,80\nPR. LIVORNO\nR.NOTARI\n1\n\n\n06\nGOMBITELLI 04\n1″17″1\n1600\n\nPR. LIVORNO\nF.MONTI\n1\n\n\n07\nGUESS CANF 04\n1″17″3\n1600\n\nPR. LIVORNO\nR.FATICONI\n1\n\n\n08\nGRAY STAF 04\n1″19″3\n1600\n\nPR. LIVORNO\nR.VECCHIONE\n1\n\n\nR\nGINEVRA PRINCESS 04\n\n1600\n\nPR. LIVORNO\nF.DI MAGGIO\n1\n\n\nRP\nGRETA MOW 04\n\n1600\n\nPR. LIVORNO\nD.DEMURU\n1\n\n\nRP\nGALAXY HORSE 04\n\n1600\n\nPR. LIVORNO\nA.GJONI\n1\n\n \n\nCORSA 2 – PR. GROSSETO\n\n\n01\nIVANO SSG 03\n1″16″6\n1600\n2.346\,00\nPR. GROSSETO\nV.LUONGO\n2\n\n\n02\nINDACO DIPA 03\n1″18″1\n1600\n1.122\,00\nPR. GROSSETO\nS.MIRAGLIA\n2\n\n\n03\nINCANTO ADRI 03\n1″18″2\n1600\n612\,00\nPR. GROSSETO\nA.GJONI\n2\n\n\n04\nISLA DEI GREPPI 03\n1″18″3\n1600\n306\,00\nPR. GROSSETO\nC.PISCUOGLIO\n2\n\n\n05\nIMPERIAL KB LEONE 03\n1″18″3\n1600\n204\,00\nPR. GROSSETO\nD.DEMURU\n2\n\n\nRP\nI DREAM 03\n\n1600\n\nPR. GROSSETO\nA.DI NARDO\n2\n\n\nDS\nILLUMINATA 03\n\n1600\n\nPR. GROSSETO\nF.MONTI\n2\n\n\nRC\nIMPAVIDA HORSE 03\n\n1600\n\nPR. GROSSETO\nG.DE FILIPPIS\n2\n\n \n\nCORSA 3 – PR. AREZZO\n\n\n01\nZOLA KEY -S- 10\n1″15″6\n1600\n1.212\,10\nPR. AREZZO\nS.MIRAGLIA\n3\n\n\n02\nACHILLE CAF 10\n1″16″3\n1600\n579\,70\nPR. AREZZO\nR.VECCHIONE\n3\n\n\n03\nDUCA AS 07\n1″16″6\n1600\n316\,20\nPR. AREZZO\nL.SCHETTINO\n3\n\n\n04\nFORMIDABLE 05\n1″16″6\n1600\n158\,10\nPR. AREZZO\nD.DEMURU\n3\n\n\n05\nFOREVER FLY 05\n1″16″7\n1600\n105\,40\nPR. AREZZO\nF.SCATOLINI\n3\n\n\n06\nUNIVERSO JET 13\n1″16″8\n1600\n\nPR. AREZZO\nA.DI NARDO\n3\n\n\n07\nULISSE LEO 13\n1″17″3\n1600\n\nPR. AREZZO\nM.STEFANI\n3\n\n\n08\nAZZURRA TAB 10\n1″17″4\n1600\n\nPR. AREZZO\nGIU.FERRANTE\n3\n\n\n09\nAMORE STECCA 10\n1″17″9\n1600\n\nPR. AREZZO\nR.FATICONI\n3\n\n\n10\nFREE REIN TFT 05\n1″18″8\n1600\n\nPR. AREZZO\nG.ZITO\n3\n\n \n\nCORSA 4 – PR. TOSCANA\n\n\n01\nIFLY POINT 03\n1″16″2\n2080\n3.714\,50\nPR. TOSCANA\nM.STEFANI\n4\n\n\n02\nMEERA WYNN -DK- 03\n1″16″4\n2080\n1.776\,50\nPR. TOSCANA\nV.LUONGO\n4\n\n\n03\nITACA TRIO 03\n1″17″2\n2080\n969\,00\nPR. TOSCANA\nG.DE FILIPPIS\n4\n\n\n04\nIBANEZ BAY 03\n1″18″1\n2080\n484\,50\nPR. TOSCANA\nM.LOVERA\n4\n\n\nRP\nIL SOGNO OF BROWN 03\n\n2080\n\nPR. TOSCANA\nA.DI NARDO\n4\n\n \n\nCORSA 5 – PR. SIENA\n\n\n01\nEMBARGO 06\n1″14″7\n1600\n1.798\,60\nPR. SIENA\nM.BECHIS\n5\n\n\n02\nFORTANA SI 05\n1″14″9\n1600\n860\,20\nPR. SIENA\nI.VECCHI\n5\n\n\n03\nBAYARD OK 09\n1″15″2\n1600\n469\,20\nPR. SIENA\nL.POLVERINO\n5\n\n\n04\nCAMELOT ERRE 08\n1″16″6\n1600\n234\,60\nPR. SIENA\nA.ORLANDI GD\n5\n\n\n05\nCARPE DIEM COL 08\n1″16″6\n1600\n156\,40\nPR. SIENA\nG.LEANZA\n5\n\n\nRP\nEVENT HORIZON 06\n\n1600\n\nPR. SIENA\nS.TINTI\n5\n\n\nRP\nCABALISTA 08\n\n1600\n\nPR. SIENA\nF.MARCHINO\n5\n\n \n\nCORSA 6 – PR. PISTOIA\n\n\n01\nGLACIAL EASY 04\n1″14″6\n1600\n1.955\,00\nPR. PISTOIA\nF.MONTI\n6\n\n\n02\nGLOWING D’ARC 04\n1″16″1\n1600\n935\,00\nPR. PISTOIA\nT.GAMBINO\n6\n\n\n03\nGLAMOUR TRIO 04\n1″16″3\n1600\n510\,00\nPR. PISTOIA\nG.DE FILIPPIS\n6\n\n\n04\nGRUMIUM 04\n1″16″7\n1600\n255\,00\nPR. PISTOIA\nR.VECCHIONE\n6\n\n\n05\nGHANDI DEI GREPPI 04\n1″16″9\n1600\n170\,00\nPR. PISTOIA\nL.TALPO JR\n6\n\n\nRP\nGLADBLACK 04\n\n1600\n\nPR. PISTOIA\nV.LUONGO\n6\n\n\nRP\nGEMMA PLAY 04\n\n1600\n\nPR. PISTOIA\nA.DI NARDO\n6\n\n \n\nCORSA 7 – PR. FIRENZE\n\n\n01\nECLISSI DI RE DR 06\n1″12″9\n1600\n3.401\,70\nPR. FIRENZE\nF.DI STEFANO\n7\n\n\n02\nFENICE DEL RONCO 05\n1″13″6\n1600\n1.626\,90\nPR. FIRENZE\nV.LUONGO\n7\n\n\n03\nEHLERT PAR 06\n1″14″1\n1600\n887\,40\nPR. FIRENZE\nR.VECCHIONE\n7\n\n\n04\nCOCIS MP 08\n1″14″2\n1600\n443\,70\nPR. FIRENZE\nMAN.MATTEINI\n7\n\n\nRP\nDAMARIS GRIF 07\n\n1600\n\nPR. FIRENZE\nM.STEFANI\n7\n\n\nRP\nEGUADOR 06\n\n1600\n\nPR. FIRENZE\nA.DI NARDO\n7\n\n\nRC\nCANNES DEI GREPPI 08\n\n1600\n\nPR. FIRENZE\nL.TALPO JR\n7\n\n\nRC\nALESSANDRO BAR 10\n\n1600\n\nPR. FIRENZE\nG.DE FILIPPIS\n7\n\n\nRA\nEXPLORER MUNDI 06\n\n1600\n\nPR. FIRENZE\nA.FAROLFI\n7
URL:https://ippodromoghirlandina.it/calendario-eventi/5-corsa-al-trotto/
LOCATION:Ippodromo Ghirlandina\, Via Ragazzi del '99\, 80\, Modena\, Modena\, 41126\, Italy
CATEGORIES:Corse,Corse al trotto
ATTACH;FMTTYPE=image/png:https://ippodromoghirlandina.it/wp-content/uploads/2025/12/sulky.1.png
END:VEVENT
END:VCALENDAR