BEGIN:VCALENDAR
VERSION:2.0
PRODID:-//Ippodromo Ghirlandina - ECPv6.15.20//NONSGML v1.0//EN
CALSCALE:GREGORIAN
METHOD:PUBLISH
X-WR-CALNAME:Ippodromo Ghirlandina
X-ORIGINAL-URL:https://ippodromoghirlandina.it
X-WR-CALDESC:Eventi per Ippodromo Ghirlandina
REFRESH-INTERVAL;VALUE=DURATION:PT1H
X-Robots-Tag:noindex
X-PUBLISHED-TTL:PT1H
BEGIN:VTIMEZONE
TZID:Europe/Rome
BEGIN:DAYLIGHT
TZOFFSETFROM:+0100
TZOFFSETTO:+0200
TZNAME:CEST
DTSTART:20250330T010000
END:DAYLIGHT
BEGIN:STANDARD
TZOFFSETFROM:+0200
TZOFFSETTO:+0100
TZNAME:CET
DTSTART:20251026T010000
END:STANDARD
BEGIN:DAYLIGHT
TZOFFSETFROM:+0100
TZOFFSETTO:+0200
TZNAME:CEST
DTSTART:20260329T010000
END:DAYLIGHT
BEGIN:STANDARD
TZOFFSETFROM:+0200
TZOFFSETTO:+0100
TZNAME:CET
DTSTART:20261025T010000
END:STANDARD
BEGIN:DAYLIGHT
TZOFFSETFROM:+0100
TZOFFSETTO:+0200
TZNAME:CEST
DTSTART:20270328T010000
END:DAYLIGHT
BEGIN:STANDARD
TZOFFSETFROM:+0200
TZOFFSETTO:+0100
TZNAME:CET
DTSTART:20271031T010000
END:STANDARD
END:VTIMEZONE
BEGIN:VEVENT
DTSTART;TZID=Europe/Rome:20260131T140000
DTEND;TZID=Europe/Rome:20260131T170000
DTSTAMP:20260422T155033
CREATED:20260109T123432Z
LAST-MODIFIED:20260130T112147Z
UID:30038-1769868000-1769878800@ippodromoghirlandina.it
SUMMARY:6° Corsa al trotto
DESCRIPTION:PROGRAMMA CORSE\nNel giorno dedicato al patrono di Modena\, San Geminiano\, l’Ippodromo Ghirlandina riapre i battenti per il secondo appuntamento settimanale del mese. \nIl confronto centrale del convegno è un miglio riservato ai cavalli di tre anni\, che propone come logica base Iceberg Lp. Il soggetto ha recentemente provato il salto in prima categoria con risultati dignitosi\, senza però raccogliere quanto sperato\, e può ora ritrovare protagonismo sulla pista modenese\, dove aveva già vinto alla fine di ottobre. \nGli avversari restano comunque da non sottovalutare\, in particolare Ideal Turdance e Igea Trio\, pronti ad approfittare di eventuali incertezze del favorito. \nIl convegno prenderà il via alle ore 14.18. \n\n\n\n\n        PRONOSTICI\n      \n\n\n\n        Corsa\n      \n\n        Favorito\n      \n\n        Sfidante\n      \n\n\n\n\n1a\n3 TRUST OF LOVE\n3 GEGHEGE’ ROSA\n\n\n2a\n3 IGUANA SPRITZ\n9 IRIS DANCE\n\n\n3a\n11 CRESO RISAIA TRGF\n3 CASH BACK FONT\n\n\n4a\n3 EUCALION\n9 FIRST WIND CANF\n\n\n5a\n5 ICEBERG LP\n3 IDEAL TURDANCE\n\n\n6a\n7 GHIRIGORI ROSA\n6 GIULIANA INDAL\n\n\n7a\n1 ECLISSI BFC\n8 DYNASTY RISHOW
URL:https://ippodromoghirlandina.it/calendario-eventi/6-corsa-al-trotto/
LOCATION:Ippodromo Ghirlandina\, Via Ragazzi del '99\, 80\, Modena\, Modena\, 41126\, Italy
CATEGORIES:Corse,Corse al trotto
ATTACH;FMTTYPE=image/png:https://ippodromoghirlandina.it/wp-content/uploads/2025/12/sulky.1.png
END:VEVENT
END:VCALENDAR