BEGIN:VCALENDAR
VERSION:2.0
PRODID:-//Ippodromo Ghirlandina - ECPv6.15.20//NONSGML v1.0//EN
CALSCALE:GREGORIAN
METHOD:PUBLISH
X-WR-CALNAME:Ippodromo Ghirlandina
X-ORIGINAL-URL:https://ippodromoghirlandina.it
X-WR-CALDESC:Eventi per Ippodromo Ghirlandina
REFRESH-INTERVAL;VALUE=DURATION:PT1H
X-Robots-Tag:noindex
X-PUBLISHED-TTL:PT1H
BEGIN:VTIMEZONE
TZID:Europe/Paris
BEGIN:DAYLIGHT
TZOFFSETFROM:+0100
TZOFFSETTO:+0200
TZNAME:CEST
DTSTART:20240331T010000
END:DAYLIGHT
BEGIN:STANDARD
TZOFFSETFROM:+0200
TZOFFSETTO:+0100
TZNAME:CET
DTSTART:20241027T010000
END:STANDARD
BEGIN:DAYLIGHT
TZOFFSETFROM:+0100
TZOFFSETTO:+0200
TZNAME:CEST
DTSTART:20250330T010000
END:DAYLIGHT
BEGIN:STANDARD
TZOFFSETFROM:+0200
TZOFFSETTO:+0100
TZNAME:CET
DTSTART:20251026T010000
END:STANDARD
BEGIN:DAYLIGHT
TZOFFSETFROM:+0100
TZOFFSETTO:+0200
TZNAME:CEST
DTSTART:20260329T010000
END:DAYLIGHT
BEGIN:STANDARD
TZOFFSETFROM:+0200
TZOFFSETTO:+0100
TZNAME:CET
DTSTART:20261025T010000
END:STANDARD
END:VTIMEZONE
BEGIN:VEVENT
DTSTART;TZID=Europe/Paris:20250718T190000
DTEND;TZID=Europe/Paris:20250718T220000
DTSTAMP:20260422T110953
CREATED:20250110T100340Z
LAST-MODIFIED:20251016T095821Z
UID:27219-1752865200-1752876000@ippodromoghirlandina.it
SUMMARY:Corse al trotto - Notturna - 18 luglio
DESCRIPTION:Rassegna Tecnico-Ippica – Ippodromo Ghirlandina Modena\n18 Luglio 2025 – Serata Notturna\nPREMIO SANTA CESAREA TERME (1600m)\nAnalisi tattica della corsa: ELORA MO ha costruito una sorprendente vittoria con un finale esplosivo\, chiudendo in 14.0 al km. La cavalla ha attaccato negli ultimi metri\, recuperando terreno su CUPIDO CUP che aveva guidato nelle fasi iniziali. La corsa è stata vivace con nove partenti\, e il finale ha visto ELORA MO imporsi con determinazione. \nPerformance dei protagonisti: ELORA MO (26\,08) ha firmato una vittoria inaspettata alla guida di Carmine Piscuoglio\, dimostrando grande velocità negli ultimi 200 metri. La figlia di Lorenz Del Ronco ha chiuso con il miglior tempo di 14.0 al km. CUPIDO CUP (2\,57) ha disputato una gara generosa\, conducendo a lungo e chiudendo secondo a 14.2 con Maurizio Cheli. HEATHERANDLEATHER (33\,33) ha completato il podio da outsider con Marco Volpato\, terminando a 14.5. \nQuote e sorprese: Clamorosa sorpresa con ELORA MO quotata 26\,08 che ha battuto il favorito CUPIDO CUP a 2\,57. Anche il terzo posto di HEATHERANDLEATHER a 33\,33 ha aumentato il valore della combinazione. \nSqualifiche: CECHOV (5-RP)\, CHARLES (7-RP)\, CENERENTOLA LEO (8-RP)\, BIMBO DI MILLE (2-RA). \nPagamenti e scommesse: La Trio ha regalato un eccezionale pagamento di 2378\,88 punti\, frutto della vittoria dell’outsider. Accoppiata a 29\,18 punti. Accoppiata piazzata: 11\,80\, 25\,30 e 7\,48 punti. Vincente a 26\,08 punti. \n\nPREMIO BAIA DEI TURCHI (1600m)\nAnalisi tattica della corsa: BILLY FERRO BR ha dominato la prova con autorità\, chiudendo in 14.3 al km con il miglior tempo della serata. Il figlio di Maharajah ha controllato la gara dall’inizio\, imponendo un ritmo insostenibile per gli avversari e gestendo con sicurezza i 1600 metri. \nPerformance dei protagonisti: BILLY FERRO BR (1\,66) ha confermato ampiamente il pronostico alla guida di Alessandro Gocciadoro\, con una prestazione impeccabile in 14.3 al km. FILIPPO RE (3\,95) ha completato una solida gara in seconda posizione a 14.9 con Vincenzo Piscuoglio Dell’Annunziata\, mostrando buona resistenza. FRANKA D’AGHI (12\,03) ha chiuso terza a 15.1 con Francesco Virzì\, confermandosi competitiva. \nQuote e sorprese: Vittoria prevista per BILLY FERRO BR\, strafavorito a 1\,66. Nessuna particolare sorpresa nella combinazione finale. \nRitirati: FANNY CLAN (1-RC)\, FISTIL MD (9-RI). \nSqualifiche: FIORDAY PRAV (2-RP)\, FLOYD (7-RP). \nPagamenti e scommesse: La Trio ha pagato 13\,18 punti. Accoppiata a 4\,02 punti. Accoppiata piazzata: 1\,92\, 3\,93 e 1\,94 punti. Pagamenti contenuti a causa della vittoria del favorito. \n\nPREMIO PESCOLUSE (1600m)\nAnalisi tattica della corsa: ITACA TRIO ha sorpreso con un finale incisivo\, chiudendo in 17.6 al km. La corsa ha visto un duello serrato tra diverse contendenti\, con la figlia di Day Or Night In che ha saputo piazzare l’attacco decisivo negli ultimi metri\, anticipando INTESA D’AMORE. \nPerformance dei protagonisti: ITACA TRIO (10\,98) ha realizzato una vittoria preziosa alla guida di Carmine Piscuoglio\, con un’accelerazione finale efficace che le ha permesso di chiudere in 17.6. INTESA D’AMORE (32\,96) ha disputato una gara coraggiosa con Sandro Miraglia\, chiudendo seconda con lo stesso tempo di 17.6 e confermandosi outsider di valore. INDIA PAPA BRAVO (4\,67) ha completato il podio a 18.1 con Antonio Di Nardo\, dopo aver tentato di resistere alle avversarie. \nQuote e sorprese: Sorpresa con ITACA TRIO a quota 10\,98 che ha preceduto l’outsider INTESA D’AMORE quotata 32\,96. La favorita IN THE NIGHT GAR a 2\,08 è stata squalificata. \nSqualifiche: IN THE NIGHT GAR (1-RP)\, INDICA JET (9-RP)\, IPOMEA DI POGGIO (6-RA). \nPagamenti e scommesse: La Trio ha corrisposto un generoso 448\,00 punti grazie alla combinazione di outsider. Accoppiata a 59\,78 punti. Accoppiata piazzata: 13\,08\, 9\,05 e 5\,83 punti. \n\nPREMIO TORRE GUACETO (1600m)\nAnalisi tattica della corsa: FLASHDANCE TRIO ha gestito la corsa con intelligenza\, chiudendo in 14.2 al km. La cavalla ha controllato il ritmo nelle fasi centrali\, respingendo il ritorno di FORMENTERA GRIF e amministrando il vantaggio fino al traguardo. \nPerformance dei protagonisti: FLASHDANCE TRIO (4\,36) ha firmato una vittoria convincente alla guida di Pietro Gubellini\, mostrando classe ed esperienza sui 1600 metri. FORMENTERA GRIF (5\,85) ha chiuso seconda a 14.6 con Carmine Piscuoglio\, tentando invano di impensierire la vincitrice. FIORDALISA BLU (5\,70) ha completato il terzetto a 14.7 con Antonio Di Nardo\, confermando la sua regolarità. \nQuote e sorprese: Vittoria nelle quote intermedie per FLASHDANCE TRIO a 4\,36. La favorita FONTE CHIARA PAR a 2\,12 è stata squalificata. \nSqualifiche: FAYMONVILLE ST (3-RP)\, FONTE CHIARA PAR (7-RP). \nPagamenti e scommesse: La Trio ha pagato 56\,28 punti. Accoppiata a 11\,05 punti. Pagamenti contenuti considerando le quote. \n\nPREMIO TORRE DELL’ORSO (1600m)\nAnalisi tattica della corsa: GIOIA DEL SAURO ha dominato la prova chiudendo in 14.1 al km\, confermando il pronostico con una prestazione autorevole. La cavalla ha guidato dall’inizio\, imponendo il proprio ritmo e respingendo gli attacchi degli inseguitori con sicurezza. \nPerformance dei protagonisti: GIOIA DEL SAURO (2\,02) ha confermato lo status di favorita alla guida di Tommaso Gambino\, con una prova solida e convincente. GENDER AS (15\,09) ha sorpreso con un secondo posto a 14.2 con Marco Volpato\, dimostrando carattere. GENNARO JET (6\,83) ha chiuso terzo a 14.5 con Manuel Pistone\, dopo una gara regolare. \nQuote e sorprese: Vittoria prevista per GIOIA DEL SAURO a 2\,02. Sorpresa per il secondo posto di GENDER AS quotato 15\,09. \nSqualifiche: GIANIRA CAF (5-DI)\, GARDEN VICTORY (1-RP)\, GIULIA LL (2-RP). \nPagamenti e scommesse: La Trio ha pagato 56\,49 punti. Accoppiata a 31\,25 punti grazie al piazzamento di GENDER AS. \n\nPREMIO SPIAGGE DEL SALENTO (2080/2100m)\nAnalisi tattica della corsa: Sulla distanza più lunga della serata\, GOLDEN KEY ha gestito con maestria i 2080 metri\, chiudendo in 16.3 al km. Il maschio ha controllato la corsa dall’inizio\, amministrando le forze e resistendo al rientro di GIUDA DI RISAIA che partiva da 2100 metri. Prova di resistenza con dieci partenti. \nPerformance dei protagonisti: GOLDEN KEY (2\,49) ha firmato una vittoria meritata alla guida di Antonio Di Nardo\, mostrando grande resistenza e gestione della distanza. GIUDA DI RISAIA (15\,61) ha realizzato una prestazione eccellente dalla seconda linea (2100m)\, chiudendo con il miglior tempo di 15.9 al km con Vincenzo Piscuoglio Dell’Annunziata. GAME ITALIA (5\,01) ha completato il podio a 16.6 con Andrea Farolfi\, confermandosi affidabile. \nQuote e sorprese: Vittoria del favorito GOLDEN KEY a 2\,49. Sorpresa per il secondo posto di GIUDA DI RISAIA quotato 15\,61\, che ha corso in recupero. La favorita GENTIAN KRONOS a 2\,00 è stata squalificata. \nRitirati: GO PRINCESS HORSE (10-RC). \nSqualifiche: GENTIAN KRONOS (3-RP)\, MUCHO CASH (4-RP)\, GENERALSTILE ORS (8-RP). \nPagamenti e scommesse: La Trio ha corrisposto 231\,48 punti grazie al piazzamento di GIUDA DI RISAIA. Accoppiata a 21\,78 punti. Accoppiata piazzata: 17\,81\, 13\,00 e 3\,40 punti. \n\nPREMIO PORTO SELVAGGIO – TR. GENTLEMEN FOR LIFE (1600m)\nAnalisi tattica della corsa: VORTICE LEO ha costruito una vittoria con un finale progressivo\, chiudendo in 14.5 al km. Il castrone ha attaccato negli ultimi 300 metri\, recuperando posizioni e superando ESTALBA PAX che aveva condotto nelle fasi centrali. Corsa equilibrata con otto partenti nella prova riservata ai gentleman driver. \nPerformance dei protagonisti: VORTICE LEO (4\,96) ha firmato una vittoria meritata alla guida del gentleman Giuseppe Rizzo\, con un finale convincente che ha fatto la differenza. ESTALBA PAX (3\,87) ha disputato una gara generosa con Andrea Venezia\, guidando a lungo prima di cedere nel finale\, chiudendo a 15.2. CLAYR DI JESI (29\,81) ha completato il podio da outsider a 15.8 con Giuseppe Leanza\, confermandosi sorprendente. \nQuote e sorprese: Vittoria nelle quote intermedie per VORTICE LEO a 4\,96. Sorpresa per il terzo posto dell’outsider CLAYR DI JESI quotato 29\,81. La favorita CRISTAL DSE a 2\,13 è stata squalificata. \nRitirati: CLEOFE COL (6-RC). \nSqualifiche: CASTIGLIONE (7-DI)\, CRISTAL DSE (1-RP). \nPagamenti e scommesse: La Trio ha corrisposto 126\,80 punti grazie all’outsider CLAYR DI JESI. Accoppiata a 14\,23 punti. Pagamenti discreti considerando il ritiro della favorita. \n\nNote della giornata\nSerata notturna all’Ippodromo Ghirlandina caratterizzata da diverse sorprese e ritiri. La Trio del Premio Santa Cesarea Terme ha raggiunto il pagamento record di 2378\,88 punti grazie alla vittoria dell’outsider ELORA MO. Tempo eccellente nella seconda corsa con BILLY FERRO BR che ha chiuso in 14.3 al km. Numerosi ritiri hanno caratterizzato le ultime corse della serata\, aumentando i pagamenti delle combinazioni. Da segnalare la prova di GIUDA DI RISAIA nel Premio Spiagge del Salento\, che dalla seconda linea ha chiuso con il miglior tempo di 15.9 al km.
URL:https://ippodromoghirlandina.it/calendario-eventi/corse-al-trotto-18-luglio/
LOCATION:Ippodromo Ghirlandina\, Via Ragazzi del '99\, 80\, Modena\, Modena\, 41126\, Italy
CATEGORIES:Corse,Corse al trotto
ATTACH;FMTTYPE=image/jpeg:https://ippodromoghirlandina.it/wp-content/uploads/2023/11/C.CORRADI_148016-scaled.jpg
END:VEVENT
END:VCALENDAR